Package: srnadiff Version: 1.24.0 Command: rm -rf srnadiff.buildbin-libdir && mkdir srnadiff.buildbin-libdir && /Users/biocbuild/BBS/utils/build-universal.sh srnadiff_1.24.0.tar.gz /Library/Frameworks/R.framework/Resources/bin/R srnadiff.buildbin-libdir StartedAt: 2024-06-11 13:25:25 -0400 (Tue, 11 Jun 2024) EndedAt: 2024-06-11 13:28:05 -0400 (Tue, 11 Jun 2024) EllapsedTime: 160.5 seconds RetCode: 0 Status: OK PackageFile: srnadiff_1.24.0.tgz PackageFileSize: 2.747 MiB