Package: spqn Version: 1.16.0 Command: E:\biocbuild\bbs-3.19-bioc\R\bin\R.exe CMD check --no-multiarch --install=check:spqn.install-out.txt --library=E:\biocbuild\bbs-3.19-bioc\R\library --no-vignettes --timings spqn_1.16.0.tar.gz StartedAt: 2024-10-17 06:10:41 -0400 (Thu, 17 Oct 2024) EndedAt: 2024-10-17 06:14:49 -0400 (Thu, 17 Oct 2024) EllapsedTime: 247.9 seconds RetCode: 0 Status: OK CheckDir: spqn.Rcheck Warnings: 0