Package: spqn Version: 1.16.0 Command: chmod a+r spqn -R && E:\biocbuild\bbs-3.19-bioc\R\bin\R.exe CMD build --keep-empty-dirs --no-resave-data spqn StartedAt: 2024-10-16 22:10:07 -0400 (Wed, 16 Oct 2024) EndedAt: 2024-10-16 22:13:28 -0400 (Wed, 16 Oct 2024) EllapsedTime: 200.5 seconds RetCode: 0 Status: OK PackageFile: spqn_1.16.0.tar.gz PackageFileSize: 2.251 MiB