Package: spoon Version: 1.0.0 Command: chmod a+r spoon -R && E:\biocbuild\bbs-3.19-bioc\R\bin\R.exe CMD build --keep-empty-dirs --no-resave-data spoon StartedAt: 2024-10-16 22:09:36 -0400 (Wed, 16 Oct 2024) EndedAt: 2024-10-16 22:12:16 -0400 (Wed, 16 Oct 2024) EllapsedTime: 159.8 seconds RetCode: 0 Status: OK PackageFile: spoon_1.0.0.tar.gz PackageFileSize: 814 KiB