Package: spoon Version: 1.0.0 Command: rm -rf spoon.buildbin-libdir && mkdir spoon.buildbin-libdir && F:\biocbuild\bbs-3.19-bioc\R\bin\R.exe CMD INSTALL --build --library=spoon.buildbin-libdir spoon_1.0.0.tar.gz StartedAt: 2024-06-27 08:59:29 -0400 (Thu, 27 Jun 2024) EndedAt: 2024-06-27 09:00:18 -0400 (Thu, 27 Jun 2024) EllapsedTime: 49.0 seconds RetCode: 0 Status: OK PackageFile: spoon_1.0.0.zip PackageFileSize: 581.3 KiB