Package: splots Version: 1.70.0 Command: E:\biocbuild\bbs-3.19-bioc\R\bin\R.exe CMD INSTALL splots StartedAt: 2024-10-16 16:01:03 -0400 (Wed, 16 Oct 2024) EndedAt: 2024-10-16 16:01:18 -0400 (Wed, 16 Oct 2024) EllapsedTime: 15.5 seconds RetCode: 0 Status: OK