Package: splots Version: 1.70.0 Command: chmod a+r splots -R && E:\biocbuild\bbs-3.19-bioc\R\bin\R.exe CMD build --keep-empty-dirs --no-resave-data splots StartedAt: 2024-10-16 22:09:33 -0400 (Wed, 16 Oct 2024) EndedAt: 2024-10-16 22:10:50 -0400 (Wed, 16 Oct 2024) EllapsedTime: 76.7 seconds RetCode: 0 Status: OK PackageFile: splots_1.70.0.tar.gz PackageFileSize: 482.5 KiB