Package: splots Version: 1.70.0 Command: /Library/Frameworks/R.framework/Resources/bin/R CMD check --install=check:splots.install-out.txt --library=/Library/Frameworks/R.framework/Resources/library --no-vignettes --timings splots_1.70.0.tar.gz StartedAt: 2024-10-17 13:45:22 -0400 (Thu, 17 Oct 2024) EndedAt: 2024-10-17 13:46:01 -0400 (Thu, 17 Oct 2024) EllapsedTime: 38.6 seconds RetCode: 0 Status: OK CheckDir: splots.Rcheck Warnings: 0