Package: splots Version: 1.70.0 Command: /Library/Frameworks/R.framework/Resources/bin/R CMD build --keep-empty-dirs --no-resave-data splots StartedAt: 2024-06-09 18:19:13 -0400 (Sun, 09 Jun 2024) EndedAt: 2024-06-09 18:20:05 -0400 (Sun, 09 Jun 2024) EllapsedTime: 51.8 seconds RetCode: 0 Status: OK PackageFile: splots_1.70.0.tar.gz PackageFileSize: 705.7 KiB