Package: splots Version: 1.70.0 Command: rm -rf splots.buildbin-libdir && mkdir splots.buildbin-libdir && /Users/biocbuild/BBS/utils/build-universal.sh splots_1.70.0.tar.gz /Library/Frameworks/R.framework/Resources/bin/R splots.buildbin-libdir StartedAt: 2024-06-10 00:41:54 -0400 (Mon, 10 Jun 2024) EndedAt: 2024-06-10 00:41:59 -0400 (Mon, 10 Jun 2024) EllapsedTime: 4.5 seconds RetCode: 0 Status: OK PackageFile: splots_1.70.0.tgz PackageFileSize: 723.3 KiB