Package: splots Version: 1.70.0 Command: /Library/Frameworks/R.framework/Resources/bin/R CMD INSTALL splots StartedAt: 2024-06-09 15:05:41 -0400 (Sun, 09 Jun 2024) EndedAt: 2024-06-09 15:05:45 -0400 (Sun, 09 Jun 2024) EllapsedTime: 4.0 seconds RetCode: 0 Status: OK