Package: splots Version: 1.70.0 Command: /Library/Frameworks/R.framework/Resources/bin/R CMD build --keep-empty-dirs --no-resave-data splots StartedAt: 2024-06-10 05:27:23 -0400 (Mon, 10 Jun 2024) EndedAt: 2024-06-10 05:28:25 -0400 (Mon, 10 Jun 2024) EllapsedTime: 62.3 seconds RetCode: 0 Status: OK PackageFile: splots_1.70.0.tar.gz PackageFileSize: 706.2 KiB