Package: splots Version: 1.70.0 Command: rm -rf splots.buildbin-libdir && mkdir splots.buildbin-libdir && /Users/biocbuild/BBS/utils/build-universal.sh splots_1.70.0.tar.gz /Library/Frameworks/R.framework/Resources/bin/R splots.buildbin-libdir StartedAt: 2024-10-15 20:28:21 -0400 (Tue, 15 Oct 2024) EndedAt: 2024-10-15 20:28:25 -0400 (Tue, 15 Oct 2024) EllapsedTime: 4.4 seconds RetCode: 0 Status: OK PackageFile: splots_1.70.0.tgz PackageFileSize: 723.9 KiB