Package: splineTimeR Version: 1.32.0 Command: chmod a+r splineTimeR -R && F:\biocbuild\bbs-3.19-bioc\R\bin\R.exe CMD build --keep-empty-dirs --no-resave-data splineTimeR StartedAt: 2024-06-26 22:09:47 -0400 (Wed, 26 Jun 2024) EndedAt: 2024-06-26 22:10:50 -0400 (Wed, 26 Jun 2024) EllapsedTime: 63.2 seconds RetCode: 0 Status: OK PackageFile: splineTimeR_1.32.0.tar.gz PackageFileSize: 1.099 MiB