Package: splatter Version: 1.28.0 Command: /home/biocbuild/bbs-3.19-bioc/R/bin/R CMD INSTALL splatter StartedAt: 2024-10-16 16:29:01 -0400 (Wed, 16 Oct 2024) EndedAt: 2024-10-16 16:29:29 -0400 (Wed, 16 Oct 2024) EllapsedTime: 27.4 seconds RetCode: 0 Status: OK