Package: splatter Version: 1.28.0 Command: /home/biocbuild/bbs-3.19-bioc/R/bin/R CMD check --install=check:splatter.install-out.txt --library=/home/biocbuild/bbs-3.19-bioc/R/site-library --timings splatter_1.28.0.tar.gz StartedAt: 2024-10-17 05:28:46 -0400 (Thu, 17 Oct 2024) EndedAt: 2024-10-17 05:39:00 -0400 (Thu, 17 Oct 2024) EllapsedTime: 614.3 seconds RetCode: 0 Status: OK CheckDir: splatter.Rcheck Warnings: 0