Package: splatter Version: 1.28.0 Command: /home/biocbuild/bbs-3.19-bioc/R/bin/R CMD build --keep-empty-dirs --no-resave-data splatter StartedAt: 2024-10-16 20:59:36 -0400 (Wed, 16 Oct 2024) EndedAt: 2024-10-16 21:02:43 -0400 (Wed, 16 Oct 2024) EllapsedTime: 186.6 seconds RetCode: 0 Status: OK PackageFile: splatter_1.28.0.tar.gz PackageFileSize: 6.481 MiB