Package: splatter Version: 1.28.0 Command: /Library/Frameworks/R.framework/Resources/bin/R CMD build --keep-empty-dirs --no-resave-data splatter StartedAt: 2024-10-16 23:39:29 -0400 (Wed, 16 Oct 2024) EndedAt: 2024-10-16 23:47:53 -0400 (Wed, 16 Oct 2024) EllapsedTime: 504.2 seconds RetCode: 0 Status: OK PackageFile: splatter_1.28.0.tar.gz PackageFileSize: 7.269 MiB