Package: splatter Version: 1.28.0 Command: /Library/Frameworks/R.framework/Resources/bin/R CMD INSTALL splatter StartedAt: 2024-06-09 15:31:47 -0400 (Sun, 09 Jun 2024) EndedAt: 2024-06-09 15:32:25 -0400 (Sun, 09 Jun 2024) EllapsedTime: 38.5 seconds RetCode: 0 Status: OK