Package: splatter Version: 1.28.0 Command: rm -rf splatter.buildbin-libdir && mkdir splatter.buildbin-libdir && /Users/biocbuild/BBS/utils/build-universal.sh splatter_1.28.0.tar.gz /Library/Frameworks/R.framework/Resources/bin/R splatter.buildbin-libdir StartedAt: 2024-10-15 20:27:40 -0400 (Tue, 15 Oct 2024) EndedAt: 2024-10-15 20:28:25 -0400 (Tue, 15 Oct 2024) EllapsedTime: 44.8 seconds RetCode: 0 Status: OK PackageFile: splatter_1.28.0.tgz PackageFileSize: 7.101 MiB