Package: spkTools Version: 1.60.0 Command: rm -rf spkTools.buildbin-libdir && mkdir spkTools.buildbin-libdir && E:\biocbuild\bbs-3.19-bioc\R\bin\R.exe CMD INSTALL --build --library=spkTools.buildbin-libdir spkTools_1.60.0.tar.gz StartedAt: 2024-10-17 08:42:53 -0400 (Thu, 17 Oct 2024) EndedAt: 2024-10-17 08:43:10 -0400 (Thu, 17 Oct 2024) EllapsedTime: 17.3 seconds RetCode: 0 Status: OK PackageFile: spkTools_1.60.0.zip PackageFileSize: 719.4 KiB