Package: spkTools Version: 1.60.0 Command: chmod a+r spkTools -R && F:\biocbuild\bbs-3.19-bioc\R\bin\R.exe CMD build --keep-empty-dirs --no-resave-data spkTools StartedAt: 2024-06-26 22:09:07 -0400 (Wed, 26 Jun 2024) EndedAt: 2024-06-26 22:09:28 -0400 (Wed, 26 Jun 2024) EllapsedTime: 21.7 seconds RetCode: 0 Status: OK PackageFile: spkTools_1.60.0.tar.gz PackageFileSize: 540.9 KiB