Package: spkTools Version: 1.60.0 Command: rm -rf spkTools.buildbin-libdir && mkdir spkTools.buildbin-libdir && F:\biocbuild\bbs-3.19-bioc\R\bin\R.exe CMD INSTALL --build --library=spkTools.buildbin-libdir spkTools_1.60.0.tar.gz StartedAt: 2024-06-27 08:59:11 -0400 (Thu, 27 Jun 2024) EndedAt: 2024-06-27 08:59:35 -0400 (Thu, 27 Jun 2024) EllapsedTime: 24.0 seconds RetCode: 0 Status: OK PackageFile: spkTools_1.60.0.zip PackageFileSize: 718.6 KiB