Package: spkTools Version: 1.60.0 Command: /home/biocbuild/bbs-3.19-bioc/R/bin/R CMD build --keep-empty-dirs --no-resave-data spkTools StartedAt: 2024-10-16 20:59:34 -0400 (Wed, 16 Oct 2024) EndedAt: 2024-10-16 20:59:45 -0400 (Wed, 16 Oct 2024) EllapsedTime: 11.0 seconds RetCode: 0 Status: OK PackageFile: spkTools_1.60.0.tar.gz PackageFileSize: 538.3 KiB