Package: spkTools Version: 1.60.0 Command: /Library/Frameworks/R.framework/Resources/bin/R CMD check --install=check:spkTools.install-out.txt --library=/Library/Frameworks/R.framework/Resources/library --no-vignettes --timings spkTools_1.60.0.tar.gz StartedAt: 2024-10-17 13:42:25 -0400 (Thu, 17 Oct 2024) EndedAt: 2024-10-17 13:45:14 -0400 (Thu, 17 Oct 2024) EllapsedTime: 169.1 seconds RetCode: 0 Status: OK CheckDir: spkTools.Rcheck Warnings: 0