Package: spkTools Version: 1.60.0 Command: /Library/Frameworks/R.framework/Resources/bin/R CMD check --install=check:spkTools.install-out.txt --library=/Library/Frameworks/R.framework/Resources/library --no-vignettes --timings spkTools_1.60.0.tar.gz StartedAt: 2024-06-09 23:16:55 -0400 (Sun, 09 Jun 2024) EndedAt: 2024-06-09 23:18:46 -0400 (Sun, 09 Jun 2024) EllapsedTime: 111.3 seconds RetCode: 0 Status: OK CheckDir: spkTools.Rcheck Warnings: 0