Package: spkTools Version: 1.60.0 Command: rm -rf spkTools.buildbin-libdir && mkdir spkTools.buildbin-libdir && /Users/biocbuild/BBS/utils/build-universal.sh spkTools_1.60.0.tar.gz /Library/Frameworks/R.framework/Resources/bin/R spkTools.buildbin-libdir StartedAt: 2024-06-11 13:23:39 -0400 (Tue, 11 Jun 2024) EndedAt: 2024-06-11 13:23:50 -0400 (Tue, 11 Jun 2024) EllapsedTime: 11.2 seconds RetCode: 0 Status: OK PackageFile: spkTools_1.60.0.tgz PackageFileSize: 841.1 KiB