Package: spillR Version: 1.0.1 Command: chmod a+r spillR -R && E:\biocbuild\bbs-3.19-bioc\R\bin\R.exe CMD build --keep-empty-dirs --no-resave-data spillR StartedAt: 2024-10-16 22:08:34 -0400 (Wed, 16 Oct 2024) EndedAt: 2024-10-16 22:11:30 -0400 (Wed, 16 Oct 2024) EllapsedTime: 176.4 seconds RetCode: 0 Status: OK PackageFile: spillR_1.0.1.tar.gz PackageFileSize: 296.7 KiB