Package: spillR Version: 1.0.0 Command: /Library/Frameworks/R.framework/Resources/bin/R CMD build --keep-empty-dirs --no-resave-data spillR StartedAt: 2024-06-09 18:18:26 -0400 (Sun, 09 Jun 2024) EndedAt: 2024-06-09 18:20:40 -0400 (Sun, 09 Jun 2024) EllapsedTime: 133.6 seconds RetCode: 0 Status: OK PackageFile: spillR_1.0.0.tar.gz PackageFileSize: 563 KiB