Package: spillR Version: 1.0.0 Command: rm -rf spillR.buildbin-libdir && mkdir spillR.buildbin-libdir && /Users/biocbuild/BBS/utils/build-universal.sh spillR_1.0.0.tar.gz /Library/Frameworks/R.framework/Resources/bin/R spillR.buildbin-libdir StartedAt: 2024-06-10 00:41:45 -0400 (Mon, 10 Jun 2024) EndedAt: 2024-06-10 00:42:32 -0400 (Mon, 10 Jun 2024) EllapsedTime: 47.5 seconds RetCode: 0 Status: OK PackageFile: spillR_1.0.0.tgz PackageFileSize: 573.1 KiB