Package: spillR Version: 1.0.1 Command: /Library/Frameworks/R.framework/Resources/bin/R CMD build --keep-empty-dirs --no-resave-data spillR StartedAt: 2024-10-17 09:57:28 -0400 (Thu, 17 Oct 2024) EndedAt: 2024-10-17 10:00:06 -0400 (Thu, 17 Oct 2024) EllapsedTime: 157.9 seconds RetCode: 0 Status: OK PackageFile: spillR_1.0.1.tar.gz PackageFileSize: 566.6 KiB