Package: spiky Version: 1.10.0 Command: rm -rf spiky.buildbin-libdir && mkdir spiky.buildbin-libdir && E:\biocbuild\bbs-3.19-bioc\R\bin\R.exe CMD INSTALL --build --library=spiky.buildbin-libdir spiky_1.10.0.tar.gz StartedAt: 2024-10-17 08:42:48 -0400 (Thu, 17 Oct 2024) EndedAt: 2024-10-17 08:43:48 -0400 (Thu, 17 Oct 2024) EllapsedTime: 60.2 seconds RetCode: 0 Status: OK PackageFile: spiky_1.10.0.zip PackageFileSize: 15.23 MiB