Package: spiky Version: 1.10.0 Command: rm -rf spiky.buildbin-libdir && mkdir spiky.buildbin-libdir && F:\biocbuild\bbs-3.19-bioc\R\bin\R.exe CMD INSTALL --build --library=spiky.buildbin-libdir spiky_1.10.0.tar.gz StartedAt: 2024-06-27 08:59:07 -0400 (Thu, 27 Jun 2024) EndedAt: 2024-06-27 09:00:02 -0400 (Thu, 27 Jun 2024) EllapsedTime: 54.9 seconds RetCode: 0 Status: OK PackageFile: spiky_1.10.0.zip PackageFileSize: 15.23 MiB