Package: spiky Version: 1.10.0 Command: /home/biocbuild/bbs-3.19-bioc/R/bin/R CMD INSTALL spiky StartedAt: 2024-10-16 16:28:50 -0400 (Wed, 16 Oct 2024) EndedAt: 2024-10-16 16:29:30 -0400 (Wed, 16 Oct 2024) EllapsedTime: 39.7 seconds RetCode: 0 Status: OK