Package: spiky Version: 1.10.0 Command: /home/biocbuild/bbs-3.19-bioc/R/bin/R CMD build --keep-empty-dirs --no-resave-data spiky StartedAt: 2024-10-16 20:59:27 -0400 (Wed, 16 Oct 2024) EndedAt: 2024-10-16 21:01:04 -0400 (Wed, 16 Oct 2024) EllapsedTime: 96.3 seconds RetCode: 0 Status: OK PackageFile: spiky_1.10.0.tar.gz PackageFileSize: 14.31 MiB