Package: spikeLI Version: 2.64.0 Command: chmod a+r spikeLI -R && E:\biocbuild\bbs-3.19-bioc\R\bin\R.exe CMD build --keep-empty-dirs --no-resave-data spikeLI StartedAt: 2024-10-16 22:08:19 -0400 (Wed, 16 Oct 2024) EndedAt: 2024-10-16 22:08:33 -0400 (Wed, 16 Oct 2024) EllapsedTime: 13.6 seconds RetCode: 0 Status: OK PackageFile: spikeLI_2.64.0.tar.gz PackageFileSize: 290.8 KiB