Package: spikeLI Version: 2.64.0 Command: F:\biocbuild\bbs-3.19-bioc\R\bin\R.exe CMD INSTALL spikeLI StartedAt: 2024-06-26 15:38:31 -0400 (Wed, 26 Jun 2024) EndedAt: 2024-06-26 15:38:51 -0400 (Wed, 26 Jun 2024) EllapsedTime: 19.7 seconds RetCode: 0 Status: OK