Package: spikeLI Version: 2.64.0 Command: rm -rf spikeLI.buildbin-libdir && mkdir spikeLI.buildbin-libdir && F:\biocbuild\bbs-3.19-bioc\R\bin\R.exe CMD INSTALL --build --library=spikeLI.buildbin-libdir spikeLI_2.64.0.tar.gz StartedAt: 2024-06-27 08:59:05 -0400 (Thu, 27 Jun 2024) EndedAt: 2024-06-27 08:59:31 -0400 (Thu, 27 Jun 2024) EllapsedTime: 25.7 seconds RetCode: 0 Status: OK PackageFile: spikeLI_2.64.0.zip PackageFileSize: 317.3 KiB