Package: spikeLI Version: 2.64.0 Command: /Library/Frameworks/R.framework/Resources/bin/R CMD build --keep-empty-dirs --no-resave-data spikeLI StartedAt: 2024-10-16 23:38:57 -0400 (Wed, 16 Oct 2024) EndedAt: 2024-10-16 23:39:15 -0400 (Wed, 16 Oct 2024) EllapsedTime: 18.1 seconds RetCode: 0 Status: OK PackageFile: spikeLI_2.64.0.tar.gz PackageFileSize: 393.8 KiB