Package: spikeLI Version: 2.64.0 Command: rm -rf spikeLI.buildbin-libdir && mkdir spikeLI.buildbin-libdir && /Users/biocbuild/BBS/utils/build-universal.sh spikeLI_2.64.0.tar.gz /Library/Frameworks/R.framework/Resources/bin/R spikeLI.buildbin-libdir StartedAt: 2024-10-17 17:16:50 -0400 (Thu, 17 Oct 2024) EndedAt: 2024-10-17 17:16:57 -0400 (Thu, 17 Oct 2024) EllapsedTime: 6.7 seconds RetCode: 0 Status: OK PackageFile: spikeLI_2.64.0.tgz PackageFileSize: 417.2 KiB