Package: spikeLI Version: 2.64.0 Command: /Library/Frameworks/R.framework/Resources/bin/R CMD check --install=check:spikeLI.install-out.txt --library=/Library/Frameworks/R.framework/Resources/library --no-vignettes --timings spikeLI_2.64.0.tar.gz StartedAt: 2024-06-09 23:16:19 -0400 (Sun, 09 Jun 2024) EndedAt: 2024-06-09 23:16:55 -0400 (Sun, 09 Jun 2024) EllapsedTime: 35.9 seconds RetCode: 0 Status: OK CheckDir: spikeLI.Rcheck Warnings: 0