Package: spikeLI Version: 2.64.0 Command: /Library/Frameworks/R.framework/Resources/bin/R CMD build --keep-empty-dirs --no-resave-data spikeLI StartedAt: 2024-06-09 18:18:19 -0400 (Sun, 09 Jun 2024) EndedAt: 2024-06-09 18:18:30 -0400 (Sun, 09 Jun 2024) EllapsedTime: 11.3 seconds RetCode: 0 Status: OK PackageFile: spikeLI_2.64.0.tar.gz PackageFileSize: 393.3 KiB