Package: spikeLI Version: 2.64.0 Command: rm -rf spikeLI.buildbin-libdir && mkdir spikeLI.buildbin-libdir && /Users/biocbuild/BBS/utils/build-universal.sh spikeLI_2.64.0.tar.gz /Library/Frameworks/R.framework/Resources/bin/R spikeLI.buildbin-libdir StartedAt: 2024-06-10 00:41:43 -0400 (Mon, 10 Jun 2024) EndedAt: 2024-06-10 00:41:48 -0400 (Mon, 10 Jun 2024) EllapsedTime: 5.7 seconds RetCode: 0 Status: OK PackageFile: spikeLI_2.64.0.tgz PackageFileSize: 416.3 KiB