Package: spikeLI Version: 2.64.0 Command: /home/biocbuild/R/R-beta-2024-04-15_r86425/bin/R CMD build --keep-empty-dirs --no-resave-data spikeLI StartedAt: 2024-05-09 03:50:08 -0000 (Thu, 09 May 2024) EndedAt: 2024-05-09 03:50:13 -0000 (Thu, 09 May 2024) EllapsedTime: 5.0 seconds RetCode: 0 Status: OK PackageFile: spikeLI_2.64.0.tar.gz PackageFileSize: 383 KiB