Package: spikeLI Version: 2.64.0 Command: /Library/Frameworks/R.framework/Resources/bin/R CMD INSTALL spikeLI StartedAt: 2024-06-09 15:01:50 -0400 (Sun, 09 Jun 2024) EndedAt: 2024-06-09 15:01:54 -0400 (Sun, 09 Jun 2024) EllapsedTime: 4.1 seconds RetCode: 0 Status: OK