Package: spikeLI Version: 2.64.0 Command: /Library/Frameworks/R.framework/Resources/bin/R CMD build --keep-empty-dirs --no-resave-data spikeLI StartedAt: 2024-10-17 09:56:46 -0400 (Thu, 17 Oct 2024) EndedAt: 2024-10-17 09:56:58 -0400 (Thu, 17 Oct 2024) EllapsedTime: 12.4 seconds RetCode: 0 Status: OK PackageFile: spikeLI_2.64.0.tar.gz PackageFileSize: 393.8 KiB