Package: speckle Version: 1.4.0 Command: E:\biocbuild\bbs-3.19-bioc\R\bin\R.exe CMD check --no-multiarch --install=check:speckle.install-out.txt --library=E:\biocbuild\bbs-3.19-bioc\R\library --no-vignettes --timings speckle_1.4.0.tar.gz StartedAt: 2024-10-17 06:02:25 -0400 (Thu, 17 Oct 2024) EndedAt: 2024-10-17 06:07:16 -0400 (Thu, 17 Oct 2024) EllapsedTime: 291.6 seconds RetCode: 0 Status: OK CheckDir: speckle.Rcheck Warnings: 0