Package: speckle Version: 1.4.0 Command: rm -rf speckle.buildbin-libdir && mkdir speckle.buildbin-libdir && E:\biocbuild\bbs-3.19-bioc\R\bin\R.exe CMD INSTALL --build --library=speckle.buildbin-libdir speckle_1.4.0.tar.gz StartedAt: 2024-10-17 08:42:15 -0400 (Thu, 17 Oct 2024) EndedAt: 2024-10-17 08:42:59 -0400 (Thu, 17 Oct 2024) EllapsedTime: 43.6 seconds RetCode: 0 Status: OK PackageFile: speckle_1.4.0.zip PackageFileSize: 583.1 KiB