Package: speckle Version: 1.4.0 Command: /Library/Frameworks/R.framework/Resources/bin/R CMD INSTALL speckle StartedAt: 2024-06-09 16:56:19 -0400 (Sun, 09 Jun 2024) EndedAt: 2024-06-09 16:57:10 -0400 (Sun, 09 Jun 2024) EllapsedTime: 50.9 seconds RetCode: 0 Status: OK