Package: speckle Version: 1.4.0 Command: rm -rf speckle.buildbin-libdir && mkdir speckle.buildbin-libdir && /Users/biocbuild/BBS/utils/build-universal.sh speckle_1.4.0.tar.gz /Library/Frameworks/R.framework/Resources/bin/R speckle.buildbin-libdir StartedAt: 2024-06-11 13:22:23 -0400 (Tue, 11 Jun 2024) EndedAt: 2024-06-11 13:23:39 -0400 (Tue, 11 Jun 2024) EllapsedTime: 75.6 seconds RetCode: 0 Status: OK PackageFile: speckle_1.4.0.tgz PackageFileSize: 1.496 MiB